BEGIN:VCALENDAR
VERSION:2.0
PRODID:-//eventon.com NONSGML v1.0//EN
BEGIN:VEVENT
UID:69e62e63cfeb3
DTSTAMP:20260420T144715
DTSTART:20250226T223000Z
DTEND:20250226T140000Z
LOCATION:iFLY 02 London Peninsula Square London SE10 0DX
SUMMARY:Indoor Skydiving at London's O2 Arena
DESCRIPTION: Indoor Skydiving at 02 London with iFLY Wednesday 26th February 2025 ~~~~~~~~~~~~~~~~~~~~~~~~~~~~~~~~~~~~~~~~~~ &nbsp; Friends\,  Amis\,  Amigos\,  Amici\,  We are delighted to announce another exciting Indoor Skydiving event with the crew at iFLY at the O2 Arena in London. This really enthusiastic posse of people will\,  once again\,  introduce you to[..]
END:VEVENT
END:VCALENDAR